BEGIN:VCALENDAR
VERSION:2.0
PRODID:-//Tukios.com/
BEGIN:VEVENT
UID:48df1c1f-12e0-4130-8e46-1f57e0bf2100@www.wyers-bollinger.com
DTSTAMP:20260425T185452Z
DTSTART:20260614T210000Z
DTEND:20260614T220000Z
SUMMARY:Funeral Service
DESCRIPTION:
URL:https://www.wyers-bollinger.com/obituaries/dolores-wyer
LOCATION: 2900 N Ridge Rd  Elyria OH 44035
GEO:41.4200147;-82.1055138
END:VEVENT
END:VCALENDAR