BEGIN:VCALENDAR
VERSION:2.0
PRODID:-//Tukios.com/
BEGIN:VEVENT
UID:e72c2c36-ca3e-4f26-bc8b-fdde5902838d@www.wyers-bollinger.com
DTSTAMP:20260425T185921Z
DTSTART:20260614T180000Z
DTEND:20260614T210000Z
SUMMARY:Memorial Service
DESCRIPTION:
URL:https://www.wyers-bollinger.com/obituaries/dolores-wyer
LOCATION: 2900 N Ridge Rd  Elyria OH 44035
GEO:41.4200147;-82.1055138
END:VEVENT
END:VCALENDAR